BEGIN:VCALENDAR
VERSION:2.0
PRODID:-//Orange Shirt Society - ECPv6.15.11//NONSGML v1.0//EN
CALSCALE:GREGORIAN
METHOD:PUBLISH
X-WR-CALNAME:Orange Shirt Society
X-ORIGINAL-URL:https://orangeshirtday.org
X-WR-CALDESC:Events for Orange Shirt Society
REFRESH-INTERVAL;VALUE=DURATION:PT1H
X-Robots-Tag:noindex
X-PUBLISHED-TTL:PT1H
BEGIN:VTIMEZONE
TZID:America/Vancouver
BEGIN:DAYLIGHT
TZOFFSETFROM:-0800
TZOFFSETTO:-0700
TZNAME:PDT
DTSTART:20220313T100000
END:DAYLIGHT
BEGIN:STANDARD
TZOFFSETFROM:-0700
TZOFFSETTO:-0800
TZNAME:PST
DTSTART:20221106T090000
END:STANDARD
BEGIN:DAYLIGHT
TZOFFSETFROM:-0800
TZOFFSETTO:-0700
TZNAME:PDT
DTSTART:20230312T100000
END:DAYLIGHT
BEGIN:STANDARD
TZOFFSETFROM:-0700
TZOFFSETTO:-0800
TZNAME:PST
DTSTART:20231105T090000
END:STANDARD
BEGIN:DAYLIGHT
TZOFFSETFROM:-0800
TZOFFSETTO:-0700
TZNAME:PDT
DTSTART:20240310T100000
END:DAYLIGHT
BEGIN:STANDARD
TZOFFSETFROM:-0700
TZOFFSETTO:-0800
TZNAME:PST
DTSTART:20241103T090000
END:STANDARD
END:VTIMEZONE
BEGIN:VEVENT
DTSTART;TZID=America/Vancouver:20230919T080000
DTEND;TZID=America/Vancouver:20230919T170000
DTSTAMP:20260422T155504
CREATED:20230919T202531Z
LAST-MODIFIED:20230920T125858Z
UID:1193-1695110400-1695142800@orangeshirtday.org
SUMMARY:Reconciliation Run in Support of Mazinaajim Children's Foundation
DESCRIPTION:Honouring our Children: Reconciliation Run in Support of Mazinaajim Children’s Foundation \nDate & Location:\nFriday\, Sept. 30 – Boulevard Lake \nRace Times:\n8:30 am – Half Marathon Run\n9:30 am – 10km Run\n10 am – 5km Run & Walk \nEntry Fees:\nHalf Marathon- $120\n10km Run – $80\n5km Run/Walk – $60 \nEvery registered participant will receive a medal and t-shirt. \nTo register visit https://www.eventbrite.ca/e/237702894757 \nFor more information\, email events@dilico.com
URL:https://orangeshirtday.org/event/reconciliation-run-in-support-of-mazinaajim-childrens-foundation/
LOCATION:Boulevard Lake\, 400 Lyon Blvd W\, Thunder Bay\, Ontario\, Canada
CATEGORIES:Orange Shirt Day
ATTACH;FMTTYPE=image/jpeg:https://orangeshirtday.org/wp-content/uploads/2023/09/OSD-event-feature-image.jpg
END:VEVENT
END:VCALENDAR